BEGIN:VCALENDAR
VERSION:2.0
PRODID:-//Kennedy Fastpitch Softball - ECPv6.15.20//NONSGML v1.0//EN
CALSCALE:GREGORIAN
METHOD:PUBLISH
X-WR-CALNAME:Kennedy Fastpitch Softball
X-ORIGINAL-URL:https://kennedyfastpitch.com
X-WR-CALDESC:Events for Kennedy Fastpitch Softball
REFRESH-INTERVAL;VALUE=DURATION:PT1H
X-Robots-Tag:noindex
X-PUBLISHED-TTL:PT1H
BEGIN:VTIMEZONE
TZID:America/Chicago
BEGIN:DAYLIGHT
TZOFFSETFROM:-0600
TZOFFSETTO:-0500
TZNAME:CDT
DTSTART:20230312T080000
END:DAYLIGHT
BEGIN:STANDARD
TZOFFSETFROM:-0500
TZOFFSETTO:-0600
TZNAME:CST
DTSTART:20231105T070000
END:STANDARD
BEGIN:DAYLIGHT
TZOFFSETFROM:-0600
TZOFFSETTO:-0500
TZNAME:CDT
DTSTART:20240310T080000
END:DAYLIGHT
BEGIN:STANDARD
TZOFFSETFROM:-0500
TZOFFSETTO:-0600
TZNAME:CST
DTSTART:20241103T070000
END:STANDARD
BEGIN:DAYLIGHT
TZOFFSETFROM:-0600
TZOFFSETTO:-0500
TZNAME:CDT
DTSTART:20250309T080000
END:DAYLIGHT
BEGIN:STANDARD
TZOFFSETFROM:-0500
TZOFFSETTO:-0600
TZNAME:CST
DTSTART:20251102T070000
END:STANDARD
END:VTIMEZONE
BEGIN:VEVENT
DTSTART;VALUE=DATE:20240530
DTEND;VALUE=DATE:20240531
DTSTAMP:20260425T173912
CREATED:20240222T161617Z
LAST-MODIFIED:20240222T161617Z
UID:908-1717027200-1717113599@kennedyfastpitch.com
SUMMARY:Last Day of School
DESCRIPTION:
URL:https://kennedyfastpitch.com/event/last-day-of-school-3/
END:VEVENT
BEGIN:VEVENT
DTSTART;VALUE=DATE:20240527
DTEND;VALUE=DATE:20240528
DTSTAMP:20260425T173912
CREATED:20240222T161241Z
LAST-MODIFIED:20240222T161241Z
UID:902-1716768000-1716854399@kennedyfastpitch.com
SUMMARY:Memorial Day
DESCRIPTION:
URL:https://kennedyfastpitch.com/event/memorial-day/
END:VEVENT
BEGIN:VEVENT
DTSTART;TZID=America/Chicago:20240524T153000
DTEND;TZID=America/Chicago:20240524T170000
DTSTAMP:20260425T173912
CREATED:20240523T131851Z
LAST-MODIFIED:20240523T131851Z
UID:1048-1716564600-1716570000@kennedyfastpitch.com
SUMMARY:(4) Kennedy vs. (2) Wayzata @ Pamela Park
DESCRIPTION:
URL:https://kennedyfastpitch.com/event/4-kennedy-vs-2-wayzata-pamela-park/
LOCATION:Pamela Park\, 4303 W 58th St\, Edina\, MN\, 55424\, United States
END:VEVENT
BEGIN:VEVENT
DTSTART;TZID=America/Chicago:20240523T153000
DTEND;TZID=America/Chicago:20240523T173000
DTSTAMP:20260425T173912
CREATED:20240520T143711Z
LAST-MODIFIED:20240520T143711Z
UID:1043-1716478200-1716485400@kennedyfastpitch.com
SUMMARY:Practice @ Kelly
DESCRIPTION:
URL:https://kennedyfastpitch.com/event/practice-kelly-4/
LOCATION:Gene Kelly Fields\, 185 E 102nd St\, Bloomington\, MN\, 55420\, United States
END:VEVENT
BEGIN:VEVENT
DTSTART;TZID=America/Chicago:20240522T150000
DTEND;TZID=America/Chicago:20240522T163000
DTSTAMP:20260425T173912
CREATED:20240521T201907Z
LAST-MODIFIED:20240521T201907Z
UID:1045-1716390000-1716395400@kennedyfastpitch.com
SUMMARY:(4) Kennedy vs. (9) Minneapolis Southwest @ Pamela Park
DESCRIPTION:
URL:https://kennedyfastpitch.com/event/4-kennedy-vs-9-minneapolis-southwest-pamela-park/
LOCATION:Pamela Park\, 4303 W 58th St\, Edina\, MN\, 55424\, United States
END:VEVENT
BEGIN:VEVENT
DTSTART;VALUE=DATE:20240522
DTEND;VALUE=DATE:20240523
DTSTAMP:20260425T173912
CREATED:20240222T161538Z
LAST-MODIFIED:20240222T161538Z
UID:906-1716336000-1716422399@kennedyfastpitch.com
SUMMARY:Kennedy Seniors Last Day
DESCRIPTION:
URL:https://kennedyfastpitch.com/event/kennedy-seniors-last-day/
END:VEVENT
BEGIN:VEVENT
DTSTART;TZID=America/Chicago:20240521T153000
DTEND;TZID=America/Chicago:20240521T173000
DTSTAMP:20260425T173912
CREATED:20240520T143633Z
LAST-MODIFIED:20240520T143633Z
UID:1041-1716305400-1716312600@kennedyfastpitch.com
SUMMARY:Practice @ Kelly
DESCRIPTION:
URL:https://kennedyfastpitch.com/event/practice-kelly-3/
LOCATION:Gene Kelly Fields\, 185 E 102nd St\, Bloomington\, MN\, 55420\, United States
END:VEVENT
BEGIN:VEVENT
DTSTART;TZID=America/Chicago:20240520T170000
DTEND;TZID=America/Chicago:20240520T183000
DTSTAMP:20260425T173912
CREATED:20240520T143534Z
LAST-MODIFIED:20240520T143534Z
UID:1038-1716224400-1716229800@kennedyfastpitch.com
SUMMARY:(4) Kennedy vs. (5) St. Louis Park @ Pamela Park
DESCRIPTION:
URL:https://kennedyfastpitch.com/event/4-kennedy-vs-5-st-louis-park-pamela-park/
LOCATION:Pamela Park\, 4303 W 58th St\, Edina\, MN\, 55424\, United States
END:VEVENT
BEGIN:VEVENT
DTSTART;TZID=America/Chicago:20240517T190000
DTEND;TZID=America/Chicago:20240517T203000
DTSTAMP:20260425T173912
CREATED:20240222T161101Z
LAST-MODIFIED:20240222T161101Z
UID:900-1715972400-1715977800@kennedyfastpitch.com
SUMMARY:Kennedy @ St. Louis Park - Aquila Park
DESCRIPTION:
URL:https://kennedyfastpitch.com/event/kennedy-st-louis-park-aquila-park-2/
LOCATION:Aquila Park\, 3110 Xylon Ave S\, Saint Louis Park\, MN\, 55426\, United States
END:VEVENT
BEGIN:VEVENT
DTSTART;TZID=America/Chicago:20240516T163000
DTEND;TZID=America/Chicago:20240516T180000
DTSTAMP:20260425T173912
CREATED:20240222T160931Z
LAST-MODIFIED:20240222T160931Z
UID:898-1715877000-1715882400@kennedyfastpitch.com
SUMMARY:Kennedy vs. Two Rivers - Kelly Fields
DESCRIPTION:
URL:https://kennedyfastpitch.com/event/kennedy-vs-two-rivers-kelly-fields/
LOCATION:Two Rivers High School\, 1897 Delaware Ave\, Mendota Heights\, MN\, 55118\, United States
END:VEVENT
BEGIN:VEVENT
DTSTART;TZID=America/Chicago:20240515T160000
DTEND;TZID=America/Chicago:20240515T173000
DTSTAMP:20260425T173912
CREATED:20240222T153951Z
LAST-MODIFIED:20240419T170124Z
UID:859-1715788800-1715794200@kennedyfastpitch.com
SUMMARY:Kennedy @ Minneapolis Washburn - Bossen Field Park
DESCRIPTION:
URL:https://kennedyfastpitch.com/event/kennedy-minneapolis-washburn-bossen-field-park/
LOCATION:Bossen Field Park\, 5701 S 28th Ave\, Minneapolis\, MN\, 55417\, United States
END:VEVENT
BEGIN:VEVENT
DTSTART;TZID=America/Chicago:20240514T163000
DTEND;TZID=America/Chicago:20240514T180000
DTSTAMP:20260425T173912
CREATED:20240222T160831Z
LAST-MODIFIED:20240222T160831Z
UID:896-1715704200-1715709600@kennedyfastpitch.com
SUMMARY:Kennedy @ Hopkins High School
DESCRIPTION:
URL:https://kennedyfastpitch.com/event/kennedy-hopkins-high-school/
LOCATION:Hopkins High School\, 2400 Royals Dr\, Minnetonka\, MN\, 55305\, United States
END:VEVENT
BEGIN:VEVENT
DTSTART;TZID=America/Chicago:20240513T163000
DTEND;TZID=America/Chicago:20240513T180000
DTSTAMP:20260425T173912
CREATED:20240222T160525Z
LAST-MODIFIED:20240509T160050Z
UID:892-1715617800-1715623200@kennedyfastpitch.com
SUMMARY:Kennedy vs. Robbinsdale Armstrong - Kelly Fields (Teacher Appreciation & Future Eagles)
DESCRIPTION:
URL:https://kennedyfastpitch.com/event/kennedy-vs-robbinsdale-armstrong-kelly-fields/
LOCATION:Gene Kelly Fields\, 185 E 102nd St\, Bloomington\, MN\, 55420\, United States
END:VEVENT
BEGIN:VEVENT
DTSTART;TZID=America/Chicago:20240510T153000
DTEND;TZID=America/Chicago:20240510T173000
DTSTAMP:20260425T173912
CREATED:20240506T153248Z
LAST-MODIFIED:20240506T153248Z
UID:1034-1715355000-1715362200@kennedyfastpitch.com
SUMMARY:Practice @ Kelly Fields
DESCRIPTION:
URL:https://kennedyfastpitch.com/event/practice-kelly-fields-5/
LOCATION:Gene Kelly Fields\, 185 E 102nd St\, Bloomington\, MN\, 55420\, United States
END:VEVENT
BEGIN:VEVENT
DTSTART;TZID=America/Chicago:20240509T190000
DTEND;TZID=America/Chicago:20240509T203000
DTSTAMP:20260425T173912
CREATED:20240222T160416Z
LAST-MODIFIED:20240222T160416Z
UID:890-1715281200-1715286600@kennedyfastpitch.com
SUMMARY:Kennedy @ Chanhassen
DESCRIPTION:
URL:https://kennedyfastpitch.com/event/kennedy-chanhassen/
LOCATION:Chanhassen High School\, 2200 Lyman Blvd\, Chanhassen\, MN\, 55317\, United States
END:VEVENT
BEGIN:VEVENT
DTSTART;TZID=America/Chicago:20240508T163000
DTEND;TZID=America/Chicago:20240508T180000
DTSTAMP:20260425T173912
CREATED:20240222T160308Z
LAST-MODIFIED:20240222T160308Z
UID:888-1715185800-1715191200@kennedyfastpitch.com
SUMMARY:Kennedy @ St. Paul Highland Park High School
DESCRIPTION:
URL:https://kennedyfastpitch.com/event/kennedy-st-paul-highland-park-high-school/
LOCATION:St. Paul Highland Park High School\, 1015 Snelling Ave S\, St. Paul\, MN\, 55116\, United States
END:VEVENT
BEGIN:VEVENT
DTSTART;TZID=America/Chicago:20240507T163000
DTEND;TZID=America/Chicago:20240507T180000
DTSTAMP:20260425T173912
CREATED:20240222T160019Z
LAST-MODIFIED:20240222T160019Z
UID:884-1715099400-1715104800@kennedyfastpitch.com
SUMMARY:Kennedy @ Visitation
DESCRIPTION:
URL:https://kennedyfastpitch.com/event/kennedy-visitation/
LOCATION:Visitation School\, 2455 Visitation Dr\, St. Paul\, MN\, 55120\, United States
END:VEVENT
BEGIN:VEVENT
DTSTART;TZID=America/Chicago:20240506T170000
DTEND;TZID=America/Chicago:20240506T183000
DTSTAMP:20260425T173912
CREATED:20240222T155509Z
LAST-MODIFIED:20240506T155138Z
UID:877-1715014800-1715020200@kennedyfastpitch.com
SUMMARY:Kennedy vs. Holy Angles - Kelly Fields (Teacher Appreciation & Future Eagles Night)
DESCRIPTION:
URL:https://kennedyfastpitch.com/event/kennedy-vs-holy-angles-kelly-fields/
LOCATION:Gene Kelly Fields\, 185 E 102nd St\, Bloomington\, MN\, 55420\, United States
END:VEVENT
BEGIN:VEVENT
DTSTART;TZID=America/Chicago:20240504T171500
DTEND;TZID=America/Chicago:20240504T184500
DTSTAMP:20260425T173912
CREATED:20240415T141658Z
LAST-MODIFIED:20240415T141658Z
UID:1013-1714842900-1714848300@kennedyfastpitch.com
SUMMARY:Kennedy vs Eagan @ Northview Park
DESCRIPTION:
URL:https://kennedyfastpitch.com/event/kennedy-vs-eagan-northview-park/
LOCATION:Northview Park Athlectic Fields\, 980 Northview Park Rd\, Eagan\, MN\, 55123\, United States
END:VEVENT
BEGIN:VEVENT
DTSTART;TZID=America/Chicago:20240504T143000
DTEND;TZID=America/Chicago:20240504T160000
DTSTAMP:20260425T173912
CREATED:20240415T141556Z
LAST-MODIFIED:20240415T141937Z
UID:1011-1714833000-1714838400@kennedyfastpitch.com
SUMMARY:Kennedy vs Blaine @ Northview Park
DESCRIPTION:
URL:https://kennedyfastpitch.com/event/kennedy-vs-blaine-northview-park/
LOCATION:Northview Park Athlectic Fields\, 980 Northview Park Rd\, Eagan\, MN\, 55123\, United States
END:VEVENT
BEGIN:VEVENT
DTSTART;TZID=America/Chicago:20240502T163000
DTEND;TZID=America/Chicago:20240502T180000
DTSTAMP:20260425T173912
CREATED:20240502T152135Z
LAST-MODIFIED:20240502T152135Z
UID:1031-1714667400-1714672800@kennedyfastpitch.com
SUMMARY:Practice @ KAC
DESCRIPTION:
URL:https://kennedyfastpitch.com/event/practice-kac-34/
LOCATION:KAC
END:VEVENT
BEGIN:VEVENT
DTSTART;TZID=America/Chicago:20240501T163000
DTEND;TZID=America/Chicago:20240501T180000
DTSTAMP:20260425T173912
CREATED:20240222T155410Z
LAST-MODIFIED:20240222T155410Z
UID:875-1714581000-1714586400@kennedyfastpitch.com
SUMMARY:Kennedy @ Totino-Grace High School
DESCRIPTION:
URL:https://kennedyfastpitch.com/event/kennedy-totino-grace-high-school/
LOCATION:Totino-Grace High School\, 1350 Gardena Ave NE\, Fridley\, MN\, 55432\, United States
END:VEVENT
BEGIN:VEVENT
DTSTART;TZID=America/Chicago:20240430T163000
DTEND;TZID=America/Chicago:20240430T180000
DTSTAMP:20260425T173912
CREATED:20240222T155029Z
LAST-MODIFIED:20240222T155029Z
UID:871-1714494600-1714500000@kennedyfastpitch.com
SUMMARY:Kennedy @ Richfield - Richfield Middle School
DESCRIPTION:
URL:https://kennedyfastpitch.com/event/kennedy-richfield-richfield-middle-school/
LOCATION:Richfield Middle School\, 7461 Oliver Ave S\, Richfield\, MN\, 55423\, United States
END:VEVENT
BEGIN:VEVENT
DTSTART;TZID=America/Chicago:20240429T163000
DTEND;TZID=America/Chicago:20240429T180000
DTSTAMP:20260425T173912
CREATED:20240429T164624Z
LAST-MODIFIED:20240429T164624Z
UID:1029-1714408200-1714413600@kennedyfastpitch.com
SUMMARY:Practice @ KAC
DESCRIPTION:
URL:https://kennedyfastpitch.com/event/practice-kac-33/
LOCATION:KAC
END:VEVENT
BEGIN:VEVENT
DTSTART;TZID=America/Chicago:20240429T163000
DTEND;TZID=America/Chicago:20240429T180000
DTSTAMP:20260425T173912
CREATED:20240402T203015Z
LAST-MODIFIED:20240429T164554Z
UID:985-1714408200-1714413600@kennedyfastpitch.com
SUMMARY:Kennedy vs. Burnsville (Cancelled)
DESCRIPTION:
URL:https://kennedyfastpitch.com/event/kennedy-vs-burnsville-kelly-fields-2/
LOCATION:Gene Kelly Fields\, 185 E 102nd St\, Bloomington\, MN\, 55420\, United States
END:VEVENT
BEGIN:VEVENT
DTSTART;TZID=America/Chicago:20240426T163000
DTEND;TZID=America/Chicago:20240426T180000
DTSTAMP:20260425T173912
CREATED:20240422T141007Z
LAST-MODIFIED:20240426T133657Z
UID:1024-1714149000-1714154400@kennedyfastpitch.com
SUMMARY:Practice @ KAC
DESCRIPTION:
URL:https://kennedyfastpitch.com/event/practice-kelly-fields-4/
LOCATION:KAC
END:VEVENT
BEGIN:VEVENT
DTSTART;TZID=America/Chicago:20240425T163000
DTEND;TZID=America/Chicago:20240425T180000
DTSTAMP:20260425T173912
CREATED:20240222T154925Z
LAST-MODIFIED:20240222T154925Z
UID:869-1714062600-1714068000@kennedyfastpitch.com
SUMMARY:Kennedy @ Robbinsdale Cooper - New Hope Learning Center
DESCRIPTION:
URL:https://kennedyfastpitch.com/event/kennedy-robbinsdale-cooper-new-hope-learning-center-2/
LOCATION:New Hope Learning Center\, 8301 47th Ave N\, New Hope\, MN\, 55428\, United States
END:VEVENT
BEGIN:VEVENT
DTSTART;TZID=America/Chicago:20240424T163000
DTEND;TZID=America/Chicago:20240424T180000
DTSTAMP:20260425T173912
CREATED:20240416T133145Z
LAST-MODIFIED:20240416T133145Z
UID:1018-1713976200-1713981600@kennedyfastpitch.com
SUMMARY:Kennedy vs. Columbia Heights/Fridley @ Kelly Fields
DESCRIPTION:
URL:https://kennedyfastpitch.com/event/kennedy-vs-columbia-heights-fridley-kelly-fields-2/
LOCATION:Gene Kelly Fields\, 185 E 102nd St\, Bloomington\, MN\, 55420\, United States
END:VEVENT
BEGIN:VEVENT
DTSTART;TZID=America/Chicago:20240423T190000
DTEND;TZID=America/Chicago:20240423T203000
DTSTAMP:20260425T173912
CREATED:20240222T154820Z
LAST-MODIFIED:20240320T195838Z
UID:867-1713898800-1713904200@kennedyfastpitch.com
SUMMARY:Kennedy @ St. Anthony Village High School
DESCRIPTION:
URL:https://kennedyfastpitch.com/event/kennedy-st-anthony-village-high-school/
LOCATION:St. Anthony Village High School\, 3303 33rd Ave NE\, St. Anthony\, MN\, 55418\, United States
END:VEVENT
BEGIN:VEVENT
DTSTART;TZID=America/Chicago:20240422T163000
DTEND;TZID=America/Chicago:20240422T180000
DTSTAMP:20260425T173912
CREATED:20240222T154420Z
LAST-MODIFIED:20240222T154420Z
UID:863-1713803400-1713808800@kennedyfastpitch.com
SUMMARY:Kennedy @ Minneapolis Southwest - Pershing Field Park
DESCRIPTION:
URL:https://kennedyfastpitch.com/event/kennedy-minneapolis-southwest-pershing-field-park/
LOCATION:Pershing Field Park\, 3523 W 48th St\, Minneapolis\, MN\, 55410\, United States
END:VEVENT
END:VCALENDAR