BEGIN:VCALENDAR
VERSION:2.0
PRODID:-//Kennedy Fastpitch Softball - ECPv6.15.20//NONSGML v1.0//EN
CALSCALE:GREGORIAN
METHOD:PUBLISH
X-WR-CALNAME:Kennedy Fastpitch Softball
X-ORIGINAL-URL:https://kennedyfastpitch.com
X-WR-CALDESC:Events for Kennedy Fastpitch Softball
REFRESH-INTERVAL;VALUE=DURATION:PT1H
X-Robots-Tag:noindex
X-PUBLISHED-TTL:PT1H
BEGIN:VTIMEZONE
TZID:America/Chicago
BEGIN:DAYLIGHT
TZOFFSETFROM:-0600
TZOFFSETTO:-0500
TZNAME:CDT
DTSTART:20250309T080000
END:DAYLIGHT
BEGIN:STANDARD
TZOFFSETFROM:-0500
TZOFFSETTO:-0600
TZNAME:CST
DTSTART:20251102T070000
END:STANDARD
BEGIN:DAYLIGHT
TZOFFSETFROM:-0600
TZOFFSETTO:-0500
TZNAME:CDT
DTSTART:20260308T080000
END:DAYLIGHT
BEGIN:STANDARD
TZOFFSETFROM:-0500
TZOFFSETTO:-0600
TZNAME:CST
DTSTART:20261101T070000
END:STANDARD
BEGIN:DAYLIGHT
TZOFFSETFROM:-0600
TZOFFSETTO:-0500
TZNAME:CDT
DTSTART:20270314T080000
END:DAYLIGHT
BEGIN:STANDARD
TZOFFSETFROM:-0500
TZOFFSETTO:-0600
TZNAME:CST
DTSTART:20271107T070000
END:STANDARD
END:VTIMEZONE
BEGIN:VEVENT
DTSTART;TZID=America/Chicago:20260401T163000
DTEND;TZID=America/Chicago:20260401T180000
DTSTAMP:20260425T204015
CREATED:20260401T144034Z
LAST-MODIFIED:20260401T144034Z
UID:1406-1775061000-1775066400@kennedyfastpitch.com
SUMMARY:Practice
DESCRIPTION:
URL:https://kennedyfastpitch.com/event/practice-8/
LOCATION:KAC
END:VEVENT
BEGIN:VEVENT
DTSTART;TZID=America/Chicago:20260402T163000
DTEND;TZID=America/Chicago:20260402T180000
DTSTAMP:20260425T204015
CREATED:20260401T144106Z
LAST-MODIFIED:20260401T144106Z
UID:1408-1775147400-1775152800@kennedyfastpitch.com
SUMMARY:Practice
DESCRIPTION:
URL:https://kennedyfastpitch.com/event/practice-11/
LOCATION:KAC
END:VEVENT
BEGIN:VEVENT
DTSTART;TZID=America/Chicago:20260403T163000
DTEND;TZID=America/Chicago:20260403T180000
DTSTAMP:20260425T204015
CREATED:20260401T144147Z
LAST-MODIFIED:20260401T144147Z
UID:1410-1775233800-1775239200@kennedyfastpitch.com
SUMMARY:Practice
DESCRIPTION:
URL:https://kennedyfastpitch.com/event/practice-12/
LOCATION:KAC
END:VEVENT
BEGIN:VEVENT
DTSTART;VALUE=DATE:20260405
DTEND;VALUE=DATE:20260406
DTSTAMP:20260425T204015
CREATED:20260302T211021Z
LAST-MODIFIED:20260302T211021Z
UID:1347-1775347200-1775433599@kennedyfastpitch.com
SUMMARY:Easter
DESCRIPTION:
URL:https://kennedyfastpitch.com/event/easter-2/
END:VEVENT
BEGIN:VEVENT
DTSTART;TZID=America/Chicago:20260406T163000
DTEND;TZID=America/Chicago:20260406T180000
DTSTAMP:20260425T204015
CREATED:20260406T131415Z
LAST-MODIFIED:20260406T131415Z
UID:1412-1775493000-1775498400@kennedyfastpitch.com
SUMMARY:Practice
DESCRIPTION:
URL:https://kennedyfastpitch.com/event/practice-13/
LOCATION:KAC
END:VEVENT
BEGIN:VEVENT
DTSTART;TZID=America/Chicago:20260407T161500
DTEND;TZID=America/Chicago:20260407T173000
DTSTAMP:20260425T204015
CREATED:20260407T184908Z
LAST-MODIFIED:20260407T184908Z
UID:1425-1775578500-1775583000@kennedyfastpitch.com
SUMMARY:Practice @ Kelly
DESCRIPTION:
URL:https://kennedyfastpitch.com/event/practice-kelly-5/
LOCATION:Gene Kelly Fields\, 185 E 102nd St\, Bloomington\, MN\, 55420\, United States
END:VEVENT
BEGIN:VEVENT
DTSTART;TZID=America/Chicago:20260407T190000
DTEND;TZID=America/Chicago:20260407T210000
DTSTAMP:20260425T204015
CREATED:20260302T203059Z
LAST-MODIFIED:20260407T184828Z
UID:1293-1775588400-1775595600@kennedyfastpitch.com
SUMMARY:Kennedy @ Chanhassen (Canceled)
DESCRIPTION:
URL:https://kennedyfastpitch.com/event/kennedy-chanhassen-2/
LOCATION:Chanhassen High School\, 2200 Lyman Blvd\, Chanhassen\, MN\, 55317\, United States
END:VEVENT
BEGIN:VEVENT
DTSTART;TZID=America/Chicago:20260408T160000
DTEND;TZID=America/Chicago:20260408T180000
DTSTAMP:20260425T204015
CREATED:20260406T131546Z
LAST-MODIFIED:20260408T145022Z
UID:1414-1775664000-1775671200@kennedyfastpitch.com
SUMMARY:Kennedy @ Minneapolis Southwest (Postponed)
DESCRIPTION:
URL:https://kennedyfastpitch.com/event/kennedy-minneapolis-southwest-neiman-athletic-complex/
LOCATION:Neiman Athletic Complex\, 6247 Bloomington Rd\, Saint Paul\, MN\, 55111\, United States
END:VEVENT
BEGIN:VEVENT
DTSTART;TZID=America/Chicago:20260408T163000
DTEND;TZID=America/Chicago:20260408T180000
DTSTAMP:20260425T204015
CREATED:20260408T145057Z
LAST-MODIFIED:20260408T145057Z
UID:1428-1775665800-1775671200@kennedyfastpitch.com
SUMMARY:Practice @ Kelly
DESCRIPTION:
URL:https://kennedyfastpitch.com/event/practice-kelly-6/
LOCATION:Gene Kelly Fields\, 185 E 102nd St\, Bloomington\, MN\, 55420\, United States
END:VEVENT
BEGIN:VEVENT
DTSTART;TZID=America/Chicago:20260409T160000
DTEND;TZID=America/Chicago:20260409T174500
DTSTAMP:20260425T204015
CREATED:20260406T131656Z
LAST-MODIFIED:20260406T131656Z
UID:1416-1775750400-1775756700@kennedyfastpitch.com
SUMMARY:Practice
DESCRIPTION:
URL:https://kennedyfastpitch.com/event/practice-14/
END:VEVENT
BEGIN:VEVENT
DTSTART;TZID=America/Chicago:20260410T163000
DTEND;TZID=America/Chicago:20260410T183000
DTSTAMP:20260425T204015
CREATED:20260406T132041Z
LAST-MODIFIED:20260406T132041Z
UID:1418-1775838600-1775845800@kennedyfastpitch.com
SUMMARY:Kennedy @ Robbinsdale Armstrong
DESCRIPTION:
URL:https://kennedyfastpitch.com/event/kennedy-robbinsdale-armstrong/
LOCATION:Robbinsdale Armstrong High School\, 10635 36th Ave N\, Plymouth\, MN\, 55441\, United States
END:VEVENT
BEGIN:VEVENT
DTSTART;TZID=America/Chicago:20260413T163000
DTEND;TZID=America/Chicago:20260413T180000
DTSTAMP:20260425T204015
CREATED:20260413T143533Z
LAST-MODIFIED:20260413T143533Z
UID:1431-1776097800-1776103200@kennedyfastpitch.com
SUMMARY:Practice @ Kelly
DESCRIPTION:
URL:https://kennedyfastpitch.com/event/practice-kelly-7/
LOCATION:Gene Kelly Fields\, 185 E 102nd St\, Bloomington\, MN\, 55420\, United States
END:VEVENT
BEGIN:VEVENT
DTSTART;TZID=America/Chicago:20260414T163000
DTEND;TZID=America/Chicago:20260414T183000
DTSTAMP:20260425T204015
CREATED:20260302T203356Z
LAST-MODIFIED:20260302T203356Z
UID:1297-1776184200-1776191400@kennedyfastpitch.com
SUMMARY:Kennedy @ St. Anthony Village
DESCRIPTION:
URL:https://kennedyfastpitch.com/event/kennedy-st-anthony-village/
LOCATION:St. Anthony Village High School\, 3303 33rd Ave NE\, St. Anthony\, MN\, 55418\, United States
END:VEVENT
BEGIN:VEVENT
DTSTART;TZID=America/Chicago:20260415T163000
DTEND;TZID=America/Chicago:20260415T180000
DTSTAMP:20260425T204015
CREATED:20260413T143608Z
LAST-MODIFIED:20260413T143608Z
UID:1433-1776270600-1776276000@kennedyfastpitch.com
SUMMARY:Practice @ Kelly
DESCRIPTION:
URL:https://kennedyfastpitch.com/event/practice-kelly-8/
LOCATION:Gene Kelly Fields\, 185 E 102nd St\, Bloomington\, MN\, 55420\, United States
END:VEVENT
BEGIN:VEVENT
DTSTART;TZID=America/Chicago:20260416T163000
DTEND;TZID=America/Chicago:20260416T183000
DTSTAMP:20260425T204015
CREATED:20260302T203451Z
LAST-MODIFIED:20260302T203451Z
UID:1299-1776357000-1776364200@kennedyfastpitch.com
SUMMARY:Kennedy vs. DeLaSalle
DESCRIPTION:
URL:https://kennedyfastpitch.com/event/kennedy-vs-delasalle/
LOCATION:Gene Kelly Fields\, 185 E 102nd St\, Bloomington\, MN\, 55420\, United States
END:VEVENT
BEGIN:VEVENT
DTSTART;TZID=America/Chicago:20260416T163000
DTEND;TZID=America/Chicago:20260416T183000
DTSTAMP:20260425T204015
CREATED:20260325T133050Z
LAST-MODIFIED:20260325T133206Z
UID:1395-1776357000-1776364200@kennedyfastpitch.com
SUMMARY:Bloomington Fastpitch Game Nights
DESCRIPTION:
URL:https://kennedyfastpitch.com/event/bloomington-fastpitch-game-nights/
LOCATION:Gene Kelly Fields\, 185 E 102nd St\, Bloomington\, MN\, 55420\, United States
END:VEVENT
BEGIN:VEVENT
DTSTART;TZID=America/Chicago:20260417T163000
DTEND;TZID=America/Chicago:20260417T180000
DTSTAMP:20260425T204015
CREATED:20260413T143644Z
LAST-MODIFIED:20260413T143644Z
UID:1435-1776443400-1776448800@kennedyfastpitch.com
SUMMARY:Practice @ Kelly
DESCRIPTION:
URL:https://kennedyfastpitch.com/event/practice-kelly-9/
LOCATION:Gene Kelly Fields\, 185 E 102nd St\, Bloomington\, MN\, 55420\, United States
END:VEVENT
BEGIN:VEVENT
DTSTART;TZID=America/Chicago:20260421T163000
DTEND;TZID=America/Chicago:20260421T183000
DTSTAMP:20260425T204015
CREATED:20260302T203625Z
LAST-MODIFIED:20260302T203625Z
UID:1301-1776789000-1776796200@kennedyfastpitch.com
SUMMARY:Kennedy @ Robbinsdale Cooper
DESCRIPTION:
URL:https://kennedyfastpitch.com/event/kennedy-robbinsdale-cooper/
LOCATION:New Hope Learning Center\, 8301 47th Ave N\, New Hope\, MN\, 55428\, United States
END:VEVENT
BEGIN:VEVENT
DTSTART;TZID=America/Chicago:20260422T163000
DTEND;TZID=America/Chicago:20260422T180000
DTSTAMP:20260425T204015
CREATED:20260422T154317Z
LAST-MODIFIED:20260422T154317Z
UID:1438-1776875400-1776880800@kennedyfastpitch.com
SUMMARY:Practice @ Kelly
DESCRIPTION:
URL:https://kennedyfastpitch.com/event/practice-kelly-10/
LOCATION:Gene Kelly Fields\, 185 E 102nd St\, Bloomington\, MN\, 55420\, United States
END:VEVENT
BEGIN:VEVENT
DTSTART;TZID=America/Chicago:20260423T163000
DTEND;TZID=America/Chicago:20260423T183000
DTSTAMP:20260425T204015
CREATED:20260302T203726Z
LAST-MODIFIED:20260423T172251Z
UID:1303-1776961800-1776969000@kennedyfastpitch.com
SUMMARY:Kennedy vs. Holy Angels (Postponed to 4/24)
DESCRIPTION:
URL:https://kennedyfastpitch.com/event/kennedy-vs-holy-angels/
LOCATION:Gene Kelly Fields\, 185 E 102nd St\, Bloomington\, MN\, 55420\, United States
END:VEVENT
BEGIN:VEVENT
DTSTART;TZID=America/Chicago:20260424T163000
DTEND;TZID=America/Chicago:20260424T183000
DTSTAMP:20260425T204015
CREATED:20260423T172420Z
LAST-MODIFIED:20260423T172420Z
UID:1445-1777048200-1777055400@kennedyfastpitch.com
SUMMARY:Kennedy vs. Holy Angels
DESCRIPTION:
URL:https://kennedyfastpitch.com/event/kennedy-vs-holy-angels-2/
LOCATION:Gene Kelly Fields\, 185 E 102nd St\, Bloomington\, MN\, 55420\, United States
END:VEVENT
BEGIN:VEVENT
DTSTART;TZID=America/Chicago:20260425T100000
DTEND;TZID=America/Chicago:20260425T120000
DTSTAMP:20260425T204015
CREATED:20260302T203829Z
LAST-MODIFIED:20260302T203829Z
UID:1305-1777111200-1777118400@kennedyfastpitch.com
SUMMARY:Kennedy vs. Minneapolis Washburn
DESCRIPTION:
URL:https://kennedyfastpitch.com/event/kennedy-vs-minneapolis-washburn-2/
LOCATION:Gene Kelly Fields\, 185 E 102nd St\, Bloomington\, MN\, 55420\, United States
END:VEVENT
BEGIN:VEVENT
DTSTART;TZID=America/Chicago:20260428T163000
DTEND;TZID=America/Chicago:20260428T183000
DTSTAMP:20260425T204015
CREATED:20260302T203926Z
LAST-MODIFIED:20260302T203926Z
UID:1307-1777393800-1777401000@kennedyfastpitch.com
SUMMARY:Kennedy @ Richfield
DESCRIPTION:
URL:https://kennedyfastpitch.com/event/kennedy-richfield/
LOCATION:Richfield Middle School\, 7461 Oliver Ave S\, Richfield\, MN\, 55423\, United States
END:VEVENT
BEGIN:VEVENT
DTSTART;TZID=America/Chicago:20260430T163000
DTEND;TZID=America/Chicago:20260430T183000
DTSTAMP:20260425T204015
CREATED:20260302T205101Z
LAST-MODIFIED:20260302T205342Z
UID:1317-1777566600-1777573800@kennedyfastpitch.com
SUMMARY:Kennedy @ Visitation
DESCRIPTION:
URL:https://kennedyfastpitch.com/event/kennedy-visitation-2/
LOCATION:Visitation School\, 2455 Visitation Dr\, St. Paul\, MN\, 55120\, United States
END:VEVENT
BEGIN:VEVENT
DTSTART;TZID=America/Chicago:20260502T130000
DTEND;TZID=America/Chicago:20260502T150000
DTSTAMP:20260425T204015
CREATED:20260302T204149Z
LAST-MODIFIED:20260302T204149Z
UID:1309-1777726800-1777734000@kennedyfastpitch.com
SUMMARY:Kennedy vs. Two Rivers @ Northview Park Field 3
DESCRIPTION:
URL:https://kennedyfastpitch.com/event/kennedy-vs-two-rivers-northview-park-field-3/
LOCATION:Northview Park Athlectic Fields\, 980 Northview Park Rd\, Eagan\, MN\, 55123\, United States
END:VEVENT
BEGIN:VEVENT
DTSTART;TZID=America/Chicago:20260502T150000
DTEND;TZID=America/Chicago:20260502T170000
DTSTAMP:20260425T204015
CREATED:20260302T204503Z
LAST-MODIFIED:20260302T204636Z
UID:1311-1777734000-1777741200@kennedyfastpitch.com
SUMMARY:Kennedy vs. Eagan @ Northview Park Field 4
DESCRIPTION:
URL:https://kennedyfastpitch.com/event/kennedy-vs-eagan-northview-park-2/
LOCATION:Northview Park Athlectic Fields\, 980 Northview Park Rd\, Eagan\, MN\, 55123\, United States
END:VEVENT
BEGIN:VEVENT
DTSTART;TZID=America/Chicago:20260502T170000
DTEND;TZID=America/Chicago:20260502T190000
DTSTAMP:20260425T204015
CREATED:20260302T204820Z
LAST-MODIFIED:20260302T205431Z
UID:1314-1777741200-1777748400@kennedyfastpitch.com
SUMMARY:Kennedy vs. Zimmerman @ Northview Park Field 2
DESCRIPTION:
URL:https://kennedyfastpitch.com/event/kennedy-vs-zimmerman-northview-park-field-1/
LOCATION:Northview Park Athlectic Fields\, 980 Northview Park Rd\, Eagan\, MN\, 55123\, United States
END:VEVENT
BEGIN:VEVENT
DTSTART;TZID=America/Chicago:20260504T163000
DTEND;TZID=America/Chicago:20260504T183000
DTSTAMP:20260425T204015
CREATED:20260302T205156Z
LAST-MODIFIED:20260302T205457Z
UID:1319-1777912200-1777919400@kennedyfastpitch.com
SUMMARY:Kennedy @ Southwest Christian
DESCRIPTION:
URL:https://kennedyfastpitch.com/event/kennedy-southwest-christian/
LOCATION:Southwest Christian\, 1981 Bavaria Rd\, Chaska\, MN\, 55318\, United States
END:VEVENT
BEGIN:VEVENT
DTSTART;TZID=America/Chicago:20260505T163000
DTEND;TZID=America/Chicago:20260505T183000
DTSTAMP:20260425T204015
CREATED:20260302T205321Z
LAST-MODIFIED:20260302T205321Z
UID:1321-1777998600-1778005800@kennedyfastpitch.com
SUMMARY:Kennedy vs. Columbia Heights/Fridley
DESCRIPTION:
URL:https://kennedyfastpitch.com/event/kennedy-vs-columbia-heights-fridley/
LOCATION:Gene Kelly Fields\, 185 E 102nd St\, Bloomington\, MN\, 55420\, United States
END:VEVENT
BEGIN:VEVENT
DTSTART;TZID=America/Chicago:20260505T163000
DTEND;TZID=America/Chicago:20260505T183000
DTSTAMP:20260425T204015
CREATED:20260325T133300Z
LAST-MODIFIED:20260325T133300Z
UID:1399-1777998600-1778005800@kennedyfastpitch.com
SUMMARY:Senior Night
DESCRIPTION:
URL:https://kennedyfastpitch.com/event/senior-night-2/
END:VEVENT
END:VCALENDAR