BEGIN:VCALENDAR
VERSION:2.0
PRODID:-//Kennedy Fastpitch Softball - ECPv6.15.20//NONSGML v1.0//EN
CALSCALE:GREGORIAN
METHOD:PUBLISH
X-ORIGINAL-URL:https://kennedyfastpitch.com
X-WR-CALDESC:Events for Kennedy Fastpitch Softball
REFRESH-INTERVAL;VALUE=DURATION:PT1H
X-Robots-Tag:noindex
X-PUBLISHED-TTL:PT1H
BEGIN:VTIMEZONE
TZID:America/Chicago
BEGIN:DAYLIGHT
TZOFFSETFROM:-0600
TZOFFSETTO:-0500
TZNAME:CDT
DTSTART:20250309T080000
END:DAYLIGHT
BEGIN:STANDARD
TZOFFSETFROM:-0500
TZOFFSETTO:-0600
TZNAME:CST
DTSTART:20251102T070000
END:STANDARD
BEGIN:DAYLIGHT
TZOFFSETFROM:-0600
TZOFFSETTO:-0500
TZNAME:CDT
DTSTART:20260308T080000
END:DAYLIGHT
BEGIN:STANDARD
TZOFFSETFROM:-0500
TZOFFSETTO:-0600
TZNAME:CST
DTSTART:20261101T070000
END:STANDARD
BEGIN:DAYLIGHT
TZOFFSETFROM:-0600
TZOFFSETTO:-0500
TZNAME:CDT
DTSTART:20270314T080000
END:DAYLIGHT
BEGIN:STANDARD
TZOFFSETFROM:-0500
TZOFFSETTO:-0600
TZNAME:CST
DTSTART:20271107T070000
END:STANDARD
END:VTIMEZONE
BEGIN:VEVENT
DTSTART;TZID=America/Chicago:20260302T163000
DTEND;TZID=America/Chicago:20260302T180000
DTSTAMP:20260425T112047
CREATED:20260302T202409Z
LAST-MODIFIED:20260302T202409Z
UID:1279-1772469000-1772474400@kennedyfastpitch.com
SUMMARY:Captains Practice
DESCRIPTION:
URL:https://kennedyfastpitch.com/event/captains-practice-11/
LOCATION:KAC
END:VEVENT
BEGIN:VEVENT
DTSTART;TZID=America/Chicago:20260303T163000
DTEND;TZID=America/Chicago:20260303T180000
DTSTAMP:20260425T112047
CREATED:20260302T202448Z
LAST-MODIFIED:20260302T202448Z
UID:1281-1772555400-1772560800@kennedyfastpitch.com
SUMMARY:Captains Practice
DESCRIPTION:
URL:https://kennedyfastpitch.com/event/captains-practice-12/
LOCATION:KAC
END:VEVENT
BEGIN:VEVENT
DTSTART;TZID=America/Chicago:20260304T163000
DTEND;TZID=America/Chicago:20260304T180000
DTSTAMP:20260425T112047
CREATED:20260302T202517Z
LAST-MODIFIED:20260302T202517Z
UID:1283-1772641800-1772647200@kennedyfastpitch.com
SUMMARY:Captains Practice
DESCRIPTION:
URL:https://kennedyfastpitch.com/event/captains-practice-13/
LOCATION:KAC
END:VEVENT
BEGIN:VEVENT
DTSTART;TZID=America/Chicago:20260305T163000
DTEND;TZID=America/Chicago:20260305T180000
DTSTAMP:20260425T112047
CREATED:20260302T202635Z
LAST-MODIFIED:20260302T202635Z
UID:1285-1772728200-1772733600@kennedyfastpitch.com
SUMMARY:Captains Practice
DESCRIPTION:
URL:https://kennedyfastpitch.com/event/captains-practice-14/
LOCATION:KAC
END:VEVENT
BEGIN:VEVENT
DTSTART;TZID=America/Chicago:20260306T163000
DTEND;TZID=America/Chicago:20260306T180000
DTSTAMP:20260425T112047
CREATED:20260302T202710Z
LAST-MODIFIED:20260302T202710Z
UID:1287-1772814600-1772820000@kennedyfastpitch.com
SUMMARY:Captains Practice
DESCRIPTION:
URL:https://kennedyfastpitch.com/event/captains-practice-15/
LOCATION:KAC
END:VEVENT
BEGIN:VEVENT
DTSTART;TZID=America/Chicago:20260309T163000
DTEND;TZID=America/Chicago:20260309T180000
DTSTAMP:20260425T112047
CREATED:20260309T170458Z
LAST-MODIFIED:20260309T170458Z
UID:1354-1773073800-1773079200@kennedyfastpitch.com
SUMMARY:Tryouts @ KAC
DESCRIPTION:
URL:https://kennedyfastpitch.com/event/tryouts-kac-4/
LOCATION:KAC
END:VEVENT
BEGIN:VEVENT
DTSTART;TZID=America/Chicago:20260310T163000
DTEND;TZID=America/Chicago:20260310T180000
DTSTAMP:20260425T112047
CREATED:20260309T170537Z
LAST-MODIFIED:20260309T170537Z
UID:1356-1773160200-1773165600@kennedyfastpitch.com
SUMMARY:Tryouts @ KAC
DESCRIPTION:
URL:https://kennedyfastpitch.com/event/tryouts-kac-5/
LOCATION:KAC
END:VEVENT
BEGIN:VEVENT
DTSTART;TZID=America/Chicago:20260311T163000
DTEND;TZID=America/Chicago:20260311T180000
DTSTAMP:20260425T112047
CREATED:20260309T170611Z
LAST-MODIFIED:20260309T170611Z
UID:1358-1773246600-1773252000@kennedyfastpitch.com
SUMMARY:Tryouts @ KAC
DESCRIPTION:
URL:https://kennedyfastpitch.com/event/tryouts-kac-6/
LOCATION:KAC
END:VEVENT
BEGIN:VEVENT
DTSTART;TZID=America/Chicago:20260312T163000
DTEND;TZID=America/Chicago:20260312T180000
DTSTAMP:20260425T112047
CREATED:20260309T170645Z
LAST-MODIFIED:20260309T170645Z
UID:1360-1773333000-1773338400@kennedyfastpitch.com
SUMMARY:Practice @ KAC
DESCRIPTION:
URL:https://kennedyfastpitch.com/event/practice-kac-35/
LOCATION:KAC
END:VEVENT
BEGIN:VEVENT
DTSTART;TZID=America/Chicago:20260313T163000
DTEND;TZID=America/Chicago:20260313T180000
DTSTAMP:20260425T112047
CREATED:20260309T170736Z
LAST-MODIFIED:20260309T170736Z
UID:1362-1773419400-1773424800@kennedyfastpitch.com
SUMMARY:Practice @ KAC
DESCRIPTION:
URL:https://kennedyfastpitch.com/event/practice-kac-36/
LOCATION:KAC
END:VEVENT
BEGIN:VEVENT
DTSTART;VALUE=DATE:20260316
DTEND;VALUE=DATE:20260321
DTSTAMP:20260425T112047
CREATED:20260302T210704Z
LAST-MODIFIED:20260302T210704Z
UID:1337-1773619200-1774051199@kennedyfastpitch.com
SUMMARY:Spring Break
DESCRIPTION:
URL:https://kennedyfastpitch.com/event/spring-break-2/
LOCATION:MN
END:VEVENT
BEGIN:VEVENT
DTSTART;TZID=America/Chicago:20260316T163000
DTEND;TZID=America/Chicago:20260316T180000
DTSTAMP:20260425T112047
CREATED:20260309T170859Z
LAST-MODIFIED:20260309T170859Z
UID:1364-1773678600-1773684000@kennedyfastpitch.com
SUMMARY:Practice @ KAC
DESCRIPTION:
URL:https://kennedyfastpitch.com/event/practice-kac-37/
LOCATION:KAC
END:VEVENT
BEGIN:VEVENT
DTSTART;TZID=America/Chicago:20260317T163000
DTEND;TZID=America/Chicago:20260317T180000
DTSTAMP:20260425T112047
CREATED:20260309T170930Z
LAST-MODIFIED:20260309T170930Z
UID:1366-1773765000-1773770400@kennedyfastpitch.com
SUMMARY:Practice @ KAC
DESCRIPTION:
URL:https://kennedyfastpitch.com/event/practice-kac-38/
LOCATION:KAC
END:VEVENT
BEGIN:VEVENT
DTSTART;TZID=America/Chicago:20260318T163000
DTEND;TZID=America/Chicago:20260318T180000
DTSTAMP:20260425T112047
CREATED:20260309T171003Z
LAST-MODIFIED:20260309T171003Z
UID:1368-1773851400-1773856800@kennedyfastpitch.com
SUMMARY:Practice @ KAC
DESCRIPTION:
URL:https://kennedyfastpitch.com/event/practice-kac-39/
LOCATION:KAC
END:VEVENT
BEGIN:VEVENT
DTSTART;TZID=America/Chicago:20260323T153000
DTEND;TZID=America/Chicago:20260323T163000
DTSTAMP:20260425T112047
CREATED:20260323T133508Z
LAST-MODIFIED:20260323T133508Z
UID:1372-1774279800-1774283400@kennedyfastpitch.com
SUMMARY:Uniform Handout @ KAC
DESCRIPTION:
URL:https://kennedyfastpitch.com/event/uniform-handout-kac/
LOCATION:KAC
END:VEVENT
BEGIN:VEVENT
DTSTART;TZID=America/Chicago:20260323T163000
DTEND;TZID=America/Chicago:20260323T180000
DTSTAMP:20260425T112047
CREATED:20260323T133537Z
LAST-MODIFIED:20260323T133537Z
UID:1374-1774283400-1774288800@kennedyfastpitch.com
SUMMARY:Practice
DESCRIPTION:
URL:https://kennedyfastpitch.com/event/practice-5/
LOCATION:MN
END:VEVENT
BEGIN:VEVENT
DTSTART;TZID=America/Chicago:20260324T163000
DTEND;TZID=America/Chicago:20260324T180000
DTSTAMP:20260425T112047
CREATED:20260323T133638Z
LAST-MODIFIED:20260323T133638Z
UID:1378-1774369800-1774375200@kennedyfastpitch.com
SUMMARY:Practice
DESCRIPTION:
URL:https://kennedyfastpitch.com/event/practice-6/
LOCATION:MN
END:VEVENT
BEGIN:VEVENT
DTSTART;TZID=America/Chicago:20260324T180000
DTEND;TZID=America/Chicago:20260324T190000
DTSTAMP:20260425T112047
CREATED:20260323T133616Z
LAST-MODIFIED:20260323T133616Z
UID:1376-1774375200-1774378800@kennedyfastpitch.com
SUMMARY:PAC Meeting @ Media Center
DESCRIPTION:
URL:https://kennedyfastpitch.com/event/pac-meeting-media-center/
LOCATION:MN
END:VEVENT
BEGIN:VEVENT
DTSTART;TZID=America/Chicago:20260325T160000
DTEND;TZID=America/Chicago:20260325T180000
DTSTAMP:20260425T112047
CREATED:20260302T202859Z
LAST-MODIFIED:20260323T133400Z
UID:1289-1774454400-1774461600@kennedyfastpitch.com
SUMMARY:Kennedy @ Minneapolis Southwest (Postponed)
DESCRIPTION:
URL:https://kennedyfastpitch.com/event/kennedy-minneapolis-southwest-neiman-athlectic-complex/
LOCATION:Neiman Athletic Complex\, 6247 Bloomington Rd\, Saint Paul\, MN\, 55111\, United States
END:VEVENT
BEGIN:VEVENT
DTSTART;TZID=America/Chicago:20260325T163000
DTEND;TZID=America/Chicago:20260325T180000
DTSTAMP:20260425T112047
CREATED:20260323T133659Z
LAST-MODIFIED:20260323T133659Z
UID:1380-1774456200-1774461600@kennedyfastpitch.com
SUMMARY:Practice
DESCRIPTION:
URL:https://kennedyfastpitch.com/event/practice-7/
LOCATION:MN
END:VEVENT
BEGIN:VEVENT
DTSTART;TZID=America/Chicago:20260326T163000
DTEND;TZID=America/Chicago:20260326T180000
DTSTAMP:20260425T112047
CREATED:20260323T133744Z
LAST-MODIFIED:20260323T133744Z
UID:1384-1774542600-1774548000@kennedyfastpitch.com
SUMMARY:Practice
DESCRIPTION:
URL:https://kennedyfastpitch.com/event/practice-9/
LOCATION:MN
END:VEVENT
BEGIN:VEVENT
DTSTART;TZID=America/Chicago:20260327T163000
DTEND;TZID=America/Chicago:20260327T180000
DTSTAMP:20260425T112047
CREATED:20260323T133805Z
LAST-MODIFIED:20260323T133805Z
UID:1386-1774629000-1774634400@kennedyfastpitch.com
SUMMARY:Practice
DESCRIPTION:
URL:https://kennedyfastpitch.com/event/practice-10/
LOCATION:MN
END:VEVENT
BEGIN:VEVENT
DTSTART;TZID=America/Chicago:20260328T100000
DTEND;TZID=America/Chicago:20260328T120000
DTSTAMP:20260425T112047
CREATED:20260323T134416Z
LAST-MODIFIED:20260325T132927Z
UID:1390-1774692000-1774699200@kennedyfastpitch.com
SUMMARY:Field Clean Up
DESCRIPTION:
URL:https://kennedyfastpitch.com/event/field-clean-up/
LOCATION:Gene Kelly Fields\, 185 E 102nd St\, Bloomington\, MN\, 55420\, United States
END:VEVENT
BEGIN:VEVENT
DTSTART;TZID=America/Chicago:20260331T163000
DTEND;TZID=America/Chicago:20260331T183000
DTSTAMP:20260425T112047
CREATED:20260302T202953Z
LAST-MODIFIED:20260401T144259Z
UID:1291-1774974600-1774981800@kennedyfastpitch.com
SUMMARY:Kennedy @ Burnsville
DESCRIPTION:
URL:https://kennedyfastpitch.com/event/kennedy-burnsville/
LOCATION:MN
END:VEVENT
END:VCALENDAR